BEGIN:VCALENDAR
VERSION:2.0
CALSCALE:GREGORIAN
PRODID:adamgibbons/ics
METHOD:PUBLISH
X-PUBLISHED-TTL:PT1H
BEGIN:VEVENT
UID:190@lapunta.org
SUMMARY:NO TUNNEL TAV PRESIDIO
DTSTAMP:20260421T094453Z
DTSTART:20210630T153000Z
DTEND:20210630T173000Z
DESCRIPTION:TUNNEL TAV SOTTO FIRENZE: ANCOR PIÙ INUTILE E DANNOSA\n\nRipart
	e il carrozzone della Tav Fiorentina. Stiamo subendo le ripercussioni\ndel
	la Pandemia globale in termini sociali ed economici . Risorse utilissime d
	a\ninvestire nella Sanità Pubblica\, nella Scuola\, nel sostegno occupazio
	nale e al\nreddito\, nel diritto alla casa e nei servizi sociali finiscono
	 invece nella\nvoragine TAV dove sono già finiti otre 800 MILIONI pubblici
	 per una buca....\n\nMERCOLEDI 30 GIUGNO 2021 ore 17.30-19.30 PRESIDIO AL 
	PONTE AL PINO\, lato edicola\n\nPARTECIPIAMO\n\nUn progetto pieno di probl
	emi e contraddizioni irrisolte\, fermo da anni\, ma in\nvia Circondaria ha
	nno ripreso a lvorare. Governo\, Regione Toscana\, Comune di\nFirenze e Fe
	rrovie vogliono realizzarlo a tutti i costi\, usando in modo\nstrumentale 
	la crisi aperta dalla pandemia Covid\, la “riconversione ecologica” e\nsop
	rattutto agendo sul ricatto del lavoro.\n\nAlle criticità già note (altera
	zione della falda\, possibili danni a centinaia di\nedifici ed a monumenti
	 storici\, gestione delle terre di scavo\, enorme spreco di\nsoldi pubblic
	i e forte squilibrio tra costi e benefici)\, si aggiungono nuove\nillegitt
	imità come l’assenza dell’Osservatorio Ambientale e di un “contraente\ngen
	erale”\, oltre alla mancanza di VIA per la Stazione ai Macelli. Per questo
	\nchiediamo lo stop immediato dei lavori ed una riconversione radicale di 
	tutto il\nprogetto.\n\nDa anni proponiamo alternative concrete e meno cost
	ose: il passaggio in\nsuperficie dei treni veloci\, il potenziamento del n
	odo ferroviario\, la\nrealizzazione di nuove stazioni per realizzare un se
	rvizio metropolitano\nefficiente ed ecologico per rispondere ai problemi d
	ella mobilità. Una scelta\nsempre più urgente imposta dal cambiamento clim
	atico con la quale creare posti\ndi lavoro stabili e sicuri.\n\nDi fronte 
	al prevalere di potenti interessi economici ed a scelte istituzionali\nsuc
	cubi e prive di buon senso\,\n\nTORNIAMO A FAR SENTIRE LA NOSTRA VOCE !!\n
	\n- Comitato No Tunnel Tav Firenze -\n\n
URL:https://lapunta.org/event/190
LOCATION:ponte al pino lato edicola - ponte al pino 
STATUS:CONFIRMED
CATEGORIES:
X-ALT-DESC;FMTTYPE=text/html:<p>TUNNEL TAV SOTTO FIRENZE: ANCOR PIÙ INUTILE
	 E DANNOSA</p><p>Riparte il carrozzone della Tav Fiorentina. Stiamo subend
	o le ripercussioni della Pandemia globale in termini sociali ed economici 
	. Risorse utilissime da investire nella Sanità Pubblica, nella Scuola, nel
	 sostegno occupazionale e al reddito, nel diritto alla casa e nei servizi 
	sociali finiscono invece nella voragine TAV dove sono già finiti otre 800 
	MILIONI pubblici per una buca....</p><p>MERCOLEDI 30 GIUGNO 2021 ore 17.30
	-19.30 PRESIDIO AL PONTE AL PINO, lato edicola</p><p>PARTECIPIAMO</p><p>Un
	 progetto pieno di problemi e contraddizioni irrisolte, fermo da anni, ma 
	in via Circondaria hanno ripreso a lvorare. Governo, Regione Toscana, Comu
	ne di Firenze e Ferrovie vogliono realizzarlo a tutti i costi, usando in m
	odo strumentale la crisi aperta dalla pandemia Covid, la “riconversione ec
	ologica” e soprattutto agendo sul ricatto del lavoro.</p><p>Alle criticità
	 già note (alterazione della falda, possibili danni a centinaia di edifici
	 ed a monumenti storici, gestione delle terre di scavo, enorme spreco di s
	oldi pubblici e forte squilibrio tra costi e benefici), si aggiungono nuov
	e illegittimità come l’assenza dell’Osservatorio Ambientale e di un “contr
	aente generale”, oltre alla mancanza di VIA per la Stazione ai Macelli. Pe
	r questo chiediamo lo stop immediato dei lavori ed una riconversione radic
	ale di tutto il progetto.</p><p>Da anni proponiamo alternative concrete e 
	meno costose: il passaggio in superficie dei treni veloci, il potenziament
	o del nodo ferroviario, la realizzazione di nuove stazioni per realizzare 
	un servizio metropolitano efficiente ed ecologico per rispondere ai proble
	mi della mobilità. Una scelta sempre più urgente imposta dal cambiamento c
	limatico con la quale creare posti di lavoro stabili e sicuri.</p><p>Di fr
	onte al prevalere di potenti interessi economici ed a scelte istituzionali
	 succubi e prive di buon senso,</p><p>TORNIAMO A FAR SENTIRE LA NOSTRA VOC
	E !!</p><p>- Comitato No Tunnel Tav Firenze -</p><p></p>
END:VEVENT
END:VCALENDAR
